BEGIN:VCALENDAR
VERSION:2.0
PRODID:-//Potteries Photography Club - ECPv6.15.20//NONSGML v1.0//EN
CALSCALE:GREGORIAN
METHOD:PUBLISH
X-ORIGINAL-URL:https://potteriesphotographyclub.co.uk
X-WR-CALDESC:Events for Potteries Photography Club
REFRESH-INTERVAL;VALUE=DURATION:PT1H
X-Robots-Tag:noindex
X-PUBLISHED-TTL:PT1H
BEGIN:VTIMEZONE
TZID:Europe/London
BEGIN:DAYLIGHT
TZOFFSETFROM:+0000
TZOFFSETTO:+0100
TZNAME:BST
DTSTART:20250330T010000
END:DAYLIGHT
BEGIN:STANDARD
TZOFFSETFROM:+0100
TZOFFSETTO:+0000
TZNAME:GMT
DTSTART:20251026T010000
END:STANDARD
BEGIN:DAYLIGHT
TZOFFSETFROM:+0000
TZOFFSETTO:+0100
TZNAME:BST
DTSTART:20260329T010000
END:DAYLIGHT
BEGIN:STANDARD
TZOFFSETFROM:+0100
TZOFFSETTO:+0000
TZNAME:GMT
DTSTART:20261025T010000
END:STANDARD
BEGIN:DAYLIGHT
TZOFFSETFROM:+0000
TZOFFSETTO:+0100
TZNAME:BST
DTSTART:20270328T010000
END:DAYLIGHT
BEGIN:STANDARD
TZOFFSETFROM:+0100
TZOFFSETTO:+0000
TZNAME:GMT
DTSTART:20271031T010000
END:STANDARD
END:VTIMEZONE
BEGIN:VEVENT
DTSTART;TZID=Europe/London:20260702T190000
DTEND;TZID=Europe/London:20260702T210000
DTSTAMP:20260423T100613
CREATED:20260317T043628Z
LAST-MODIFIED:20260317T043701Z
UID:10076-1783018800-1783026000@potteriesphotographyclub.co.uk
SUMMARY:A night out at Trentham Gardens
DESCRIPTION:Trentham Gardens opens late and it’s cut price to get in so what better place to spend a balmy Summer’s evening when you live nowhere near a beach? Lots to see and photograph as well as well as watch the Twandies on the playground….although it was Claire on the slide last time…. \nHow many laps of the lake can you do though whilst also taking pictures and not running….?
URL:https://potteriesphotographyclub.co.uk/event/a-night-out-at-trentham-gardens/
LOCATION:Trentham Gardens
CATEGORIES:Diary
END:VEVENT
END:VCALENDAR