BEGIN:VCALENDAR
VERSION:2.0
PRODID:-//Potteries Photography Club - ECPv6.15.20//NONSGML v1.0//EN
CALSCALE:GREGORIAN
METHOD:PUBLISH
X-ORIGINAL-URL:https://potteriesphotographyclub.co.uk
X-WR-CALDESC:Events for Potteries Photography Club
REFRESH-INTERVAL;VALUE=DURATION:PT1H
X-Robots-Tag:noindex
X-PUBLISHED-TTL:PT1H
BEGIN:VTIMEZONE
TZID:Europe/London
BEGIN:DAYLIGHT
TZOFFSETFROM:+0000
TZOFFSETTO:+0100
TZNAME:BST
DTSTART:20250330T010000
END:DAYLIGHT
BEGIN:STANDARD
TZOFFSETFROM:+0100
TZOFFSETTO:+0000
TZNAME:GMT
DTSTART:20251026T010000
END:STANDARD
BEGIN:DAYLIGHT
TZOFFSETFROM:+0000
TZOFFSETTO:+0100
TZNAME:BST
DTSTART:20260329T010000
END:DAYLIGHT
BEGIN:STANDARD
TZOFFSETFROM:+0100
TZOFFSETTO:+0000
TZNAME:GMT
DTSTART:20261025T010000
END:STANDARD
BEGIN:DAYLIGHT
TZOFFSETFROM:+0000
TZOFFSETTO:+0100
TZNAME:BST
DTSTART:20270328T010000
END:DAYLIGHT
BEGIN:STANDARD
TZOFFSETFROM:+0100
TZOFFSETTO:+0000
TZNAME:GMT
DTSTART:20271031T010000
END:STANDARD
BEGIN:DAYLIGHT
TZOFFSETFROM:+0000
TZOFFSETTO:+0100
TZNAME:BST
DTSTART:20280326T010000
END:DAYLIGHT
BEGIN:STANDARD
TZOFFSETFROM:+0100
TZOFFSETTO:+0000
TZNAME:GMT
DTSTART:20281029T010000
END:STANDARD
END:VTIMEZONE
BEGIN:VEVENT
DTSTART;TZID=Europe/London:20261001T190000
DTEND;TZID=Europe/London:20261001T210000
DTSTAMP:20260420T193229
CREATED:20250930T014024Z
LAST-MODIFIED:20250930T014024Z
UID:10008-1790881200-1790888400@potteriesphotographyclub.co.uk
SUMMARY:The Return of.....Tony Worobiec
DESCRIPTION:Yes!! \nYou demanded it so Tony will be joining us again with a topic to be decided upon at a meeting soon. Whatever it is though\, you’ll want to be there! \nAlan R\, you can now book your holiday around this night.
URL:https://potteriesphotographyclub.co.uk/event/the-return-of-tony-worobiec/
LOCATION:Marychurch Centre\, 153 Werrington Road\, Stoke-on-Trent\, ST2 9AQ\, United Kingdom
CATEGORIES:Diary
END:VEVENT
BEGIN:VEVENT
DTSTART;TZID=Europe/London:20270121T190000
DTEND;TZID=Europe/London:20270121T210000
DTSTAMP:20260420T193229
CREATED:20260129T025449Z
LAST-MODIFIED:20260129T025449Z
UID:10041-1800558000-1800565200@potteriesphotographyclub.co.uk
SUMMARY:Bob Brind-Surch's triumphant return
DESCRIPTION:From the ordinary to the extraordinary part 1 – Beyond Auto Mode – Taking creative control of your camera \nYes\, Bob is back so get there early to get a seat and bring a sleeping bag in case he overruns…. \nYou’ve had part 2 but to get to part 3 you need to do part 1 as we once again take our photography from the ordinary to the extraordinary. It is a standalone talk so don’t worry if you missed part 2 in 2026. \nJappleyard won’t want to miss this….and neither should you….
URL:https://potteriesphotographyclub.co.uk/event/bob-brind-surchs-triumphant-return/
LOCATION:Marychurch Centre\, 153 Werrington Road\, Stoke-on-Trent\, ST2 9AQ\, United Kingdom
CATEGORIES:Diary
END:VEVENT
BEGIN:VEVENT
DTSTART;TZID=Europe/London:20270225T190000
DTEND;TZID=Europe/London:20270225T210000
DTSTAMP:20260420T193229
CREATED:20260227T170034Z
LAST-MODIFIED:20260227T170034Z
UID:10049-1803582000-1803589200@potteriesphotographyclub.co.uk
SUMMARY:Flying High with Lee Chapman
DESCRIPTION:Okay\, so the presentation is called Aviation Photography but it’s going to make your spirits soar as Lee makes a welcome return to the club. \nIt’s going to be a great and busy one so fly in early as Lee will do the opposite of wing it…. \nI’ll get my coat….
URL:https://potteriesphotographyclub.co.uk/event/flying-high-with-lee-chapman/
LOCATION:Marychurch Centre\, 153 Werrington Road\, Stoke-on-Trent\, ST2 9AQ\, United Kingdom
CATEGORIES:Diary
END:VEVENT
END:VCALENDAR