BEGIN:VCALENDAR
VERSION:2.0
PRODID:-//Potteries Photography Club - ECPv6.15.20//NONSGML v1.0//EN
CALSCALE:GREGORIAN
METHOD:PUBLISH
X-ORIGINAL-URL:https://potteriesphotographyclub.co.uk
X-WR-CALDESC:Events for Potteries Photography Club
REFRESH-INTERVAL;VALUE=DURATION:PT1H
X-Robots-Tag:noindex
X-PUBLISHED-TTL:PT1H
BEGIN:VTIMEZONE
TZID:Europe/London
BEGIN:DAYLIGHT
TZOFFSETFROM:+0000
TZOFFSETTO:+0100
TZNAME:BST
DTSTART:20210328T010000
END:DAYLIGHT
BEGIN:STANDARD
TZOFFSETFROM:+0100
TZOFFSETTO:+0000
TZNAME:GMT
DTSTART:20211031T010000
END:STANDARD
BEGIN:DAYLIGHT
TZOFFSETFROM:+0000
TZOFFSETTO:+0100
TZNAME:BST
DTSTART:20220327T010000
END:DAYLIGHT
BEGIN:STANDARD
TZOFFSETFROM:+0100
TZOFFSETTO:+0000
TZNAME:GMT
DTSTART:20221030T010000
END:STANDARD
BEGIN:DAYLIGHT
TZOFFSETFROM:+0000
TZOFFSETTO:+0100
TZNAME:BST
DTSTART:20230326T010000
END:DAYLIGHT
BEGIN:STANDARD
TZOFFSETFROM:+0100
TZOFFSETTO:+0000
TZNAME:GMT
DTSTART:20231029T010000
END:STANDARD
BEGIN:DAYLIGHT
TZOFFSETFROM:+0000
TZOFFSETTO:+0100
TZNAME:BST
DTSTART:20240331T010000
END:DAYLIGHT
BEGIN:STANDARD
TZOFFSETFROM:+0100
TZOFFSETTO:+0000
TZNAME:GMT
DTSTART:20241027T010000
END:STANDARD
END:VTIMEZONE
BEGIN:VEVENT
DTSTART;TZID=Europe/London:20220811T190000
DTEND;TZID=Europe/London:20220811T203000
DTSTAMP:20260423T155735
CREATED:20220527T035935Z
LAST-MODIFIED:20220729T014213Z
UID:8339-1660244400-1660249800@potteriesphotographyclub.co.uk
SUMMARY:Bubbles Night
DESCRIPTION:Tonight everyone will be bringing in hot tubs and we will sit in them and pretend to talk about photography. This is why we will be upstairs in the big room. Please arrive early to get your water warmed up. \nOr…..we could be making and taking pictures of bubbles….yes\, that’s probably it. Bit more sensible if you think about it. \nThere will also be a set-up for low-key photography. \nAnd maybe an oil and water set-up? \nIf you don’t know what they are\, you have even more reason to come along. Don’t forget your cameras!
URL:https://potteriesphotographyclub.co.uk/event/bubbles-night/
LOCATION:Marychurch Centre\, 153 Werrington Road\, Stoke-on-Trent\, ST2 9AQ\, United Kingdom
CATEGORIES:Diary
END:VEVENT
BEGIN:VEVENT
DTSTART;TZID=Europe/London:20220818T190000
DTEND;TZID=Europe/London:20220818T210000
DTSTAMP:20260423T155735
CREATED:20220527T040227Z
LAST-MODIFIED:20220527T040227Z
UID:8341-1660849200-1660856400@potteriesphotographyclub.co.uk
SUMMARY:Helen blips again
DESCRIPTION:Another much requested online presentation will be brought to life again tonight as Helen talks about blipfoto and shows her pictures from significant times that she posted on there. \nHopefully you will be encouraged to join too.
URL:https://potteriesphotographyclub.co.uk/event/helen-blips-again/
LOCATION:Marychurch Centre\, 153 Werrington Road\, Stoke-on-Trent\, ST2 9AQ\, United Kingdom
CATEGORIES:Diary
END:VEVENT
BEGIN:VEVENT
DTSTART;TZID=Europe/London:20220825T190000
DTEND;TZID=Europe/London:20220825T210000
DTSTAMP:20260423T155735
CREATED:20220527T040521Z
LAST-MODIFIED:20220717T213211Z
UID:8343-1661454000-1661461200@potteriesphotographyclub.co.uk
SUMMARY:Trip to Ford Green Hall
DESCRIPTION:With a model rifleman! \nYes\, not only do we get to visit this wonderful building but we also have a model booked for you. His name is Chris and he works at the hall but usually in 21st century attire….I presume…. Tonight he will be dressed as a rifleman (you can ask him when his costume is from…) and he will be there for you to well…shoot…. \nTotal cost for the two hours is £70 (all of which goes to maintain the building) and we need to raise (at least) this cost between us on the night so please bring cash and pay what you can afford.
URL:https://potteriesphotographyclub.co.uk/event/were-going-out/
LOCATION:Ford Green Hall\, 375B Ford Green Rd\, Stoke-on-Trent\, Staffs\, ST6 1NG\, United Kingdom
CATEGORIES:Diary
END:VEVENT
BEGIN:VEVENT
DTSTART;TZID=Europe/London:20220901T190000
DTEND;TZID=Europe/London:20220901T210000
DTSTAMP:20260423T155735
CREATED:20220527T041247Z
LAST-MODIFIED:20220802T212940Z
UID:8345-1662058800-1662066000@potteriesphotographyclub.co.uk
SUMMARY:Dave Kitson's Second Night
DESCRIPTION:Okay\, so he doesn’t know he’s doing tonight as he got volunteered while he wasn’t there. This obviously wasn’t my idea as I wouldn’t do that. I blame Andy P….and Chadders….even though he wasn’t there either…. \nI guess we’ll just have to wait and see what his presentation is going to be on…. \nDave….Dave??? \nHe’s found it! And\, being the good egg he is\, already has a plan. Here it is: \nI’ll do that talk on planning a landscape photo shoot:\n* Finding and mapping locations\n* Choosing which location based on weather\n* Finding the best time of day to go\n* Planning potential vantage points\n* Where will the light be falling\n* Finding Parking and Routes to your spot
URL:https://potteriesphotographyclub.co.uk/event/dave-kitsons-second-night/
LOCATION:Marychurch Centre\, 153 Werrington Road\, Stoke-on-Trent\, ST2 9AQ\, United Kingdom
CATEGORIES:Diary
END:VEVENT
BEGIN:VEVENT
DTSTART;TZID=Europe/London:20220908T190000
DTEND;TZID=Europe/London:20220908T210000
DTSTAMP:20260423T155735
CREATED:20220527T041656Z
LAST-MODIFIED:20220527T041656Z
UID:8347-1662663600-1662670800@potteriesphotographyclub.co.uk
SUMMARY:Upstairs With Andy
DESCRIPTION:Andy Nicholls that is….who kind of doesn’t know that he’s doing a big practical and demo in the room upstairs…. \nThanks Andy! You’re a good un! If you could let me know what you’re doing…please…..thanks….
URL:https://potteriesphotographyclub.co.uk/event/upstairs-with-andy/
LOCATION:Marychurch Centre\, 153 Werrington Road\, Stoke-on-Trent\, ST2 9AQ\, United Kingdom
CATEGORIES:Diary
END:VEVENT
BEGIN:VEVENT
DTSTART;TZID=Europe/London:20220915T080000
DTEND;TZID=Europe/London:20220915T170000
DTSTAMP:20260423T155735
CREATED:20220527T042110Z
LAST-MODIFIED:20220527T042110Z
UID:8349-1663228800-1663261200@potteriesphotographyclub.co.uk
SUMMARY:Flashing with Andy
DESCRIPTION:Andy P that is\, as he introduces us to the wonderful world of flashguns. Bring lots of questions as he loves those. \nSo why would you use a flashgun\, what do all those numbers mean\, how much should I spend on one\, can I catch TTL from a toilet seat? All those questions and more will be answered in just two short hours\, won’t they Andy….?
URL:https://potteriesphotographyclub.co.uk/event/flashing-with-andy/
LOCATION:Marychurch Centre\, 153 Werrington Road\, Stoke-on-Trent\, ST2 9AQ\, United Kingdom
CATEGORIES:Diary
END:VEVENT
BEGIN:VEVENT
DTSTART;TZID=Europe/London:20220922T190000
DTEND;TZID=Europe/London:20220922T210000
DTSTAMP:20260423T155735
CREATED:20220527T042422Z
LAST-MODIFIED:20220527T042422Z
UID:8351-1663873200-1663880400@potteriesphotographyclub.co.uk
SUMMARY:What's in Your Bag?
DESCRIPTION:No not your gym bag\, or even your shopping bag. This is a camera club don’t forget (I think we all do sometimes….) so we will be inviting members to bring in their camera bags and show us what’s inside. What lenses do you carry? What gadgets can’t you live without? \nBring your bags in and show us what you’ve got!
URL:https://potteriesphotographyclub.co.uk/event/whats-in-your-bag-2/
LOCATION:Marychurch Centre\, 153 Werrington Road\, Stoke-on-Trent\, ST2 9AQ\, United Kingdom
CATEGORIES:Diary
END:VEVENT
BEGIN:VEVENT
DTSTART;TZID=Europe/London:20220929T190000
DTEND;TZID=Europe/London:20220929T210000
DTSTAMP:20260423T155735
CREATED:20220527T042754Z
LAST-MODIFIED:20220527T042754Z
UID:8353-1664478000-1664485200@potteriesphotographyclub.co.uk
SUMMARY:Affinity Vs Photoshop Vs ON1
DESCRIPTION:I’ll be honest\, I’m nervous about this night as it will be my first night ever demonstrating photo manipulation software….yes me! I will be doing ON1\, Nathan will be doing Affinity and Claire will be doing Photoshop so you can contrast and compare. Should be an interesting night! \nBut who will win? \nNot that it’s a competition….no\, of course not…..
URL:https://potteriesphotographyclub.co.uk/event/affinity-vs-photoshop-vs-on1/
LOCATION:Marychurch Centre\, 153 Werrington Road\, Stoke-on-Trent\, ST2 9AQ\, United Kingdom
CATEGORIES:Diary
END:VEVENT
BEGIN:VEVENT
DTSTART;TZID=Europe/London:20221006T190000
DTEND;TZID=Europe/London:20221006T210000
DTSTAMP:20260423T155736
CREATED:20220527T044025Z
LAST-MODIFIED:20220527T044025Z
UID:8357-1665082800-1665090000@potteriesphotographyclub.co.uk
SUMMARY:Water Droplet Demo Night
DESCRIPTION:Tonight Claire will be showing you how she creates her amazing water droplet photos. It’s a demo but you can go home and do them yourself and then post them to our facebook and flickr pages!
URL:https://potteriesphotographyclub.co.uk/event/water-droplet-demo-night/
LOCATION:Marychurch Centre\, 153 Werrington Road\, Stoke-on-Trent\, ST2 9AQ\, United Kingdom
CATEGORIES:Diary
END:VEVENT
BEGIN:VEVENT
DTSTART;TZID=Europe/London:20221013T190000
DTEND;TZID=Europe/London:20221013T210000
DTSTAMP:20260423T155736
CREATED:20220527T044124Z
LAST-MODIFIED:20221004T014424Z
UID:8359-1665687600-1665694800@potteriesphotographyclub.co.uk
SUMMARY:Water Droplets Practical
DESCRIPTION:Claire showed you how to do it last week and she will be on hand to shout at anyone who has forgotten or who wasn’t there. I mean on hand to help….. \nSo yes it’s water droplets night and your chance to have a go. Bringing props and equipment in would be good. Claire will advise.
URL:https://potteriesphotographyclub.co.uk/event/upstairs/
LOCATION:Marychurch Centre\, 153 Werrington Road\, Stoke-on-Trent\, ST2 9AQ\, United Kingdom
CATEGORIES:Diary
END:VEVENT
BEGIN:VEVENT
DTSTART;TZID=Europe/London:20221020T190000
DTEND;TZID=Europe/London:20221020T210000
DTSTAMP:20260423T155736
CREATED:20220527T043757Z
LAST-MODIFIED:20221004T221656Z
UID:8355-1666292400-1666299600@potteriesphotographyclub.co.uk
SUMMARY:Nathan's night with Vivian Maier
DESCRIPTION:Well about Vivian Maier anyway. Yes Nathan will be discussing and showing pictures by Vivian Maier tonight and\, as I don’t know much about her\, I’ll be looking forward to it. \nAnd so should you. \nTonight we will also be planning our Winter programme so bring along your ideas\, requests and your volunteering. Mark\, don’t worry\, you’re already on the list!
URL:https://potteriesphotographyclub.co.uk/event/nathans-night-with-vivian-maier/
LOCATION:Marychurch Centre\, 153 Werrington Road\, Stoke-on-Trent\, ST2 9AQ\, United Kingdom
CATEGORIES:Diary
END:VEVENT
BEGIN:VEVENT
DTSTART;TZID=Europe/London:20221027T190000
DTEND;TZID=Europe/London:20221027T210000
DTSTAMP:20260423T155736
CREATED:20220527T035439Z
LAST-MODIFIED:20220729T014108Z
UID:8337-1666897200-1666904400@potteriesphotographyclub.co.uk
SUMMARY:Rob's saying things with confidence night featuring Transylvania and Chernobyl
DESCRIPTION:Pushed back from August 4th…so it had better be good! \nTonight Rob will be talking about and showing us pictures from trips to Transylvania and Chernobyl. \nHe will be giving us lots of facts too and sayin them with confidence so\, even if he’s made them up\, we won’t know! \nExpect lots of abstract photos…..or maybe not….
URL:https://potteriesphotographyclub.co.uk/event/robs-saying-things-with-confidence-night/
LOCATION:Marychurch Centre\, 153 Werrington Road\, Stoke-on-Trent\, ST2 9AQ\, United Kingdom
CATEGORIES:Diary
END:VEVENT
BEGIN:VEVENT
DTSTART;TZID=Europe/London:20221103T190000
DTEND;TZID=Europe/London:20221103T210000
DTSTAMP:20260423T155736
CREATED:20221019T220001Z
LAST-MODIFIED:20221019T220027Z
UID:8634-1667502000-1667509200@potteriesphotographyclub.co.uk
SUMMARY:Fireworks Night
DESCRIPTION:While we can still buy fireworks\, we will be going up to Park Hall and setting some off….if you bring some! If you don’t we’ll just be staring at the sky hoping someone else sets some off somewhere…. \nThe idea is that we photograph them of course so bring cameras\, tripods and shutter releases if you have them. \nWe will be parking on the car park by the lake-directions will be in your email. Wrap up warm and wear sturdy footwear. Don’t forget to bring your weekly fees too. \nAnd bring fireworks…..
URL:https://potteriesphotographyclub.co.uk/event/fireworks-night/
LOCATION:Park Hall Country Park\, Hulme Road\, Stoke-on-Trent\, Staffs\, ST3 5BH
CATEGORIES:Diary,Events
END:VEVENT
BEGIN:VEVENT
DTSTART;TZID=Europe/London:20221110T190000
DTEND;TZID=Europe/London:20221110T210000
DTSTAMP:20260423T155736
CREATED:20221021T013134Z
LAST-MODIFIED:20221021T013134Z
UID:8638-1668106800-1668114000@potteriesphotographyclub.co.uk
SUMMARY:Painting With Light Indoors
DESCRIPTION:This will be indoors and upstairs\, readying us for trips out later in the Winter. We now have some experts who will be waving various lights around for your photographs. You will need a camera and a tripod and a shutter release would be very handy too.
URL:https://potteriesphotographyclub.co.uk/event/painting-with-light-indoors/
LOCATION:Marychurch Centre\, 153 Werrington Road\, Stoke-on-Trent\, ST2 9AQ\, United Kingdom
CATEGORIES:Diary
END:VEVENT
BEGIN:VEVENT
DTSTART;TZID=Europe/London:20221117T190000
DTEND;TZID=Europe/London:20221117T210000
DTSTAMP:20260423T155736
CREATED:20221021T013728Z
LAST-MODIFIED:20221021T013728Z
UID:8640-1668711600-1668718800@potteriesphotographyclub.co.uk
SUMMARY:Show and Tell from the last two weeks
DESCRIPTION:In a new idea we will be having a night where we show photographs from previous weeks so this week we will be covering our fireworks night and last week’s painting with light. We can include any pictures you have taken since which were inspired by the two nights and on the same subject. Details on this later….once we figure it out! \nWe will also be discussing how it all went\, what worked\, what didn’t and how we could improve….if we think we can of course….
URL:https://potteriesphotographyclub.co.uk/event/show-and-tell-from-the-last-two-weeks/
LOCATION:Marychurch Centre\, 153 Werrington Road\, Stoke-on-Trent\, ST2 9AQ\, United Kingdom
CATEGORIES:Diary
END:VEVENT
BEGIN:VEVENT
DTSTART;TZID=Europe/London:20221124T190000
DTEND;TZID=Europe/London:20221124T210000
DTSTAMP:20260423T155736
CREATED:20221004T222257Z
LAST-MODIFIED:20221004T222257Z
UID:8599-1669316400-1669323600@potteriesphotographyclub.co.uk
SUMMARY:73 in 73 with Jason
DESCRIPTION:73 in 73 was a mammoth undertaking by former member Jason and he has kindly offered to return and tell us all about it. 73 pictures in 73 days all of different locations all over the Peak District whilst working as well was quite an undertaking. It was all for charity and he was joined on his quest by a number of photographers as well as Claire and I. \nIt makes quite a story!
URL:https://potteriesphotographyclub.co.uk/event/73-in-73-with-jason/
LOCATION:Marychurch Centre\, 153 Werrington Road\, Stoke-on-Trent\, ST2 9AQ\, United Kingdom
CATEGORIES:Diary
END:VEVENT
BEGIN:VEVENT
DTSTART;TZID=Europe/London:20221201T190000
DTEND;TZID=Europe/London:20221201T210000
DTSTAMP:20260423T155736
CREATED:20221021T014912Z
LAST-MODIFIED:20221021T014912Z
UID:8642-1669921200-1669928400@potteriesphotographyclub.co.uk
SUMMARY:Bubbles Photography Intro
DESCRIPTION:Week one of your bubbles will be a presentation by Claire\, Nikki and maybe Helen….someone had better tell her! \nThis week we will learn how to do bubble photography…….and if you’re not sure what that is\, come along and find out!
URL:https://potteriesphotographyclub.co.uk/event/bubbles-photography-intro/
LOCATION:Marychurch Centre\, 153 Werrington Road\, Stoke-on-Trent\, ST2 9AQ\, United Kingdom
CATEGORIES:Diary
END:VEVENT
BEGIN:VEVENT
DTSTART;TZID=Europe/London:20221208T190000
DTEND;TZID=Europe/London:20221208T210000
DTSTAMP:20260423T155736
CREATED:20221021T015249Z
LAST-MODIFIED:20221021T015249Z
UID:8644-1670526000-1670533200@potteriesphotographyclub.co.uk
SUMMARY:Bubble Photography Practical
DESCRIPTION:After last week’s introduction and explanation\, we now move onto the practical in the upstairs room. I’ve just realised that we will be missing this week as we will be in Berlin\, so Claire will be leaving things in the capable hands of Nikki and…ahem….Helen…. \nMore on what to bring will be explained last week and put in your email.
URL:https://potteriesphotographyclub.co.uk/event/bubble-photography-practical/
LOCATION:Marychurch Centre\, 153 Werrington Road\, Stoke-on-Trent\, ST2 9AQ\, United Kingdom
CATEGORIES:Diary
END:VEVENT
BEGIN:VEVENT
DTSTART;TZID=Europe/London:20221215T190000
DTEND;TZID=Europe/London:20221215T210000
DTSTAMP:20260423T155736
CREATED:20221021T020036Z
LAST-MODIFIED:20221021T020036Z
UID:8646-1671130800-1671138000@potteriesphotographyclub.co.uk
SUMMARY:Bubbles show and tell
DESCRIPTION:You’ve spent two weeks learning and taking pictures….maybe at home too….and now it’s time to show pictures and discuss how it all went and see what could be done better if anything. We will also be showing any festive pictures you may have taken so we can all get in the Christmas spirit.
URL:https://potteriesphotographyclub.co.uk/event/bubbles-show-and-tell/
LOCATION:Marychurch Centre\, 153 Werrington Road\, Stoke-on-Trent\, ST2 9AQ\, United Kingdom
CATEGORIES:Diary
END:VEVENT
BEGIN:VEVENT
DTSTART;TZID=Europe/London:20221222T190000
DTEND;TZID=Europe/London:20221222T210000
DTSTAMP:20260423T155736
CREATED:20221004T224439Z
LAST-MODIFIED:20221004T224439Z
UID:8601-1671735600-1671742800@potteriesphotographyclub.co.uk
SUMMARY:Glyn's Christmas Quiz
DESCRIPTION:Despite mass protests and the odd riot I shall be doing my annual heckle-fest where I try yet again to find the most tenuous links to photography for some questions. I may even bring back the incredibly unpopular charades round as an excuse to make bizarre gestures at everyone and make myself look an idiot yet again. \nThere will be winners and there will be people who get less answers correct. And probably lots of laughs. \nCome along or be a right Scrooge.
URL:https://potteriesphotographyclub.co.uk/event/glyns-christmas-quiz-3/
LOCATION:Marychurch Centre\, 153 Werrington Road\, Stoke-on-Trent\, ST2 9AQ\, United Kingdom
CATEGORIES:Diary
END:VEVENT
BEGIN:VEVENT
DTSTART;TZID=Europe/London:20230105T190000
DTEND;TZID=Europe/London:20230105T210000
DTSTAMP:20260423T155736
CREATED:20221021T031516Z
LAST-MODIFIED:20221021T031516Z
UID:8648-1672945200-1672952400@potteriesphotographyclub.co.uk
SUMMARY:Low Key Photography the Intro
DESCRIPTION:In an unprecedented duet we have Picko and Kitto tonight introducing us to the wonderful world of Low Key Photography. If you think this has something to do with dropping your keys….you’d better join us… \nNo messing about with Happy New Years….we’re back\, let’s get on with it!
URL:https://potteriesphotographyclub.co.uk/event/low-key-photography-the-intro/
LOCATION:Marychurch Centre\, 153 Werrington Road\, Stoke-on-Trent\, ST2 9AQ\, United Kingdom
CATEGORIES:Diary
END:VEVENT
BEGIN:VEVENT
DTSTART;TZID=Europe/London:20230112T190000
DTEND;TZID=Europe/London:20230112T210000
DTSTAMP:20260423T155736
CREATED:20221021T031824Z
LAST-MODIFIED:20221021T031824Z
UID:8650-1673550000-1673557200@potteriesphotographyclub.co.uk
SUMMARY:Low Key Photography. Now it's your turn
DESCRIPTION:After last week’s introduction\, it’s time to put it into practice as we head upstairs to do some low key stuff. You do not need to have attended last week\, you just need to turn up….with a camera…
URL:https://potteriesphotographyclub.co.uk/event/low-key-photography-now-its-your-turn/
LOCATION:Marychurch Centre\, 153 Werrington Road\, Stoke-on-Trent\, ST2 9AQ\, United Kingdom
CATEGORIES:Diary
END:VEVENT
BEGIN:VEVENT
DTSTART;TZID=Europe/London:20230119T190000
DTEND;TZID=Europe/London:20230119T210000
DTSTAMP:20260423T155736
CREATED:20221021T032428Z
LAST-MODIFIED:20221021T032428Z
UID:8652-1674154800-1674162000@potteriesphotographyclub.co.uk
SUMMARY:Street Photography up 'Anley Duck
DESCRIPTION:It’s time to get out and about as we head into Hanley to do some street photography. We will meet by the blue clock (doesn’t everyone?) and head off either altogether or in groups. However you want to interpret street photography is fine. There are a number of car parks in Hanley and\, don’t tell anyone I said this\, but you can park on Tesco car park for up to 3 hours for free. \nI suspect you will need to wrap up warm.
URL:https://potteriesphotographyclub.co.uk/event/street-photography-up-anley-duck/
LOCATION:Marychurch Centre\, 153 Werrington Road\, Stoke-on-Trent\, ST2 9AQ\, United Kingdom
CATEGORIES:Diary
END:VEVENT
BEGIN:VEVENT
DTSTART;TZID=Europe/London:20230126T190000
DTEND;TZID=Europe/London:20230126T210000
DTSTAMP:20260423T155736
CREATED:20221021T033549Z
LAST-MODIFIED:20221021T033549Z
UID:8654-1674759600-1674766800@potteriesphotographyclub.co.uk
SUMMARY:Show and Tell from the low key to the street
DESCRIPTION:It’s another catch-up\, show your photos and discussion night as we show and tell from the recent low key photography and street photography nights.
URL:https://potteriesphotographyclub.co.uk/event/show-and-tell-from-the-low-key-to-the-street/
LOCATION:Marychurch Centre\, 153 Werrington Road\, Stoke-on-Trent\, ST2 9AQ\, United Kingdom
CATEGORIES:Diary
END:VEVENT
BEGIN:VEVENT
DTSTART;TZID=Europe/London:20230202T190000
DTEND;TZID=Europe/London:20230202T210000
DTSTAMP:20260423T155736
CREATED:20221021T034103Z
LAST-MODIFIED:20221021T034103Z
UID:8656-1675364400-1675371600@potteriesphotographyclub.co.uk
SUMMARY:Snowdonia with Kitto
DESCRIPTION:Kitto is back at the front tonight with another of his popular presentations. This time he will be showing pictures from and talking about a trip to Snowdonia he took recently although\, maybe by the time you read this\, it will be so last year! \nBets are off that he managed to capture a rainbow….
URL:https://potteriesphotographyclub.co.uk/event/snowdonia-with-kitto/
LOCATION:Marychurch Centre\, 153 Werrington Road\, Stoke-on-Trent\, ST2 9AQ\, United Kingdom
CATEGORIES:Diary
END:VEVENT
BEGIN:VEVENT
DTSTART;TZID=Europe/London:20230209T190000
DTEND;TZID=Europe/London:20230209T210000
DTSTAMP:20260423T155736
CREATED:20221021T034811Z
LAST-MODIFIED:20221021T034811Z
UID:8658-1675969200-1675976400@potteriesphotographyclub.co.uk
SUMMARY:Practical night of Action Figure photography
DESCRIPTION:It’s AA night as Andy N and Alan R demonstrate and aid with doing some action figure photography. It’s time to dig out your Batmen\, your R2D2s and your Barbies as we delve into the wonderful world of making small things look like life size things!
URL:https://potteriesphotographyclub.co.uk/event/practical-night-of-action-figure-photography/
LOCATION:Marychurch Centre\, 153 Werrington Road\, Stoke-on-Trent\, ST2 9AQ\, United Kingdom
CATEGORIES:Diary
END:VEVENT
BEGIN:VEVENT
DTSTART;TZID=Europe/London:20230216T190000
DTEND;TZID=Europe/London:20230216T210000
DTSTAMP:20260423T155736
CREATED:20221021T035134Z
LAST-MODIFIED:20230214T020240Z
UID:8660-1676574000-1676581200@potteriesphotographyclub.co.uk
SUMMARY:Action Figure photography show and tell and some from our recent painting with light trip
DESCRIPTION:We will start off by looking at pictures from last week and any you may have been inspired to take since then whilst also discussing the whos\, whys\, whens and whatnots. \nWe will also be looking at what some of us got up to on a recent Friday night outing to Longton Park….
URL:https://potteriesphotographyclub.co.uk/event/action-figure-photography-show-and-tell-and-maybe-some-painting-with-light/
LOCATION:Marychurch Centre\, 153 Werrington Road\, Stoke-on-Trent\, ST2 9AQ\, United Kingdom
CATEGORIES:Diary
END:VEVENT
BEGIN:VEVENT
DTSTART;TZID=Europe/London:20230223T190000
DTEND;TZID=Europe/London:20230223T210000
DTSTAMP:20260423T155736
CREATED:20221021T035615Z
LAST-MODIFIED:20230205T231039Z
UID:8662-1677178800-1677186000@potteriesphotographyclub.co.uk
SUMMARY:The History of Photography
DESCRIPTION:Over 1400 years in ONE night! \nPresented by someone who is doing his research frantically to condense so much into one night and trying not to overrun again…. \nThere may even be some things that will pop up in the Christmas quiz…… \nYes\, it’s me!
URL:https://potteriesphotographyclub.co.uk/event/gig-photography-and-other-work-by-none-other-than-mark-lear/
LOCATION:Marychurch Centre\, 153 Werrington Road\, Stoke-on-Trent\, ST2 9AQ\, United Kingdom
CATEGORIES:Diary
END:VEVENT
BEGIN:VEVENT
DTSTART;TZID=Europe/London:20230302T190000
DTEND;TZID=Europe/London:20230302T210000
DTSTAMP:20260423T155736
CREATED:20221021T040043Z
LAST-MODIFIED:20230214T021407Z
UID:8664-1677783600-1677790800@potteriesphotographyclub.co.uk
SUMMARY:AGM and Planning
DESCRIPTION:It’s time for you all to try and battle your way onto the committee as all our positions are up for grabs. There will be the usual speeches and going over the last year while you lot just wish it was all over. \nWe will then be planning our Summer programme. So we need your ideas\, suggestions and input please! \n 
URL:https://potteriesphotographyclub.co.uk/event/agm-planning-and-georgia/
LOCATION:Marychurch Centre\, 153 Werrington Road\, Stoke-on-Trent\, ST2 9AQ\, United Kingdom
CATEGORIES:Diary
END:VEVENT
BEGIN:VEVENT
DTSTART;TZID=Europe/London:20230309T190000
DTEND;TZID=Europe/London:20230309T210000
DTSTAMP:20260423T155736
CREATED:20221021T040816Z
LAST-MODIFIED:20221021T040907Z
UID:8668-1678388400-1678395600@potteriesphotographyclub.co.uk
SUMMARY:Projects Night. The Return
DESCRIPTION:Remember that night when we had a projects night and I did mine on hands? Well this is part 2\, so start thinking as soon as you read this what you’re going to do. It was very interactive last time with people appearing in other’s shots but it doesn’t have to involve people at all of course. we have the big room upstairs for this one so plenty of room for….whatever… \nSo what will you do….?
URL:https://potteriesphotographyclub.co.uk/event/projects-night-the-return/
LOCATION:Marychurch Centre\, 153 Werrington Road\, Stoke-on-Trent\, ST2 9AQ\, United Kingdom
CATEGORIES:Diary
END:VEVENT
END:VCALENDAR