BEGIN:VCALENDAR
VERSION:2.0
PRODID:-//Potteries Photography Club - ECPv6.15.20//NONSGML v1.0//EN
CALSCALE:GREGORIAN
METHOD:PUBLISH
X-WR-CALNAME:Potteries Photography Club
X-ORIGINAL-URL:https://potteriesphotographyclub.co.uk
X-WR-CALDESC:Events for Potteries Photography Club
REFRESH-INTERVAL;VALUE=DURATION:PT1H
X-Robots-Tag:noindex
X-PUBLISHED-TTL:PT1H
BEGIN:VTIMEZONE
TZID:Europe/London
BEGIN:DAYLIGHT
TZOFFSETFROM:+0000
TZOFFSETTO:+0100
TZNAME:BST
DTSTART:20240331T010000
END:DAYLIGHT
BEGIN:STANDARD
TZOFFSETFROM:+0100
TZOFFSETTO:+0000
TZNAME:GMT
DTSTART:20241027T010000
END:STANDARD
BEGIN:DAYLIGHT
TZOFFSETFROM:+0000
TZOFFSETTO:+0100
TZNAME:BST
DTSTART:20250330T010000
END:DAYLIGHT
BEGIN:STANDARD
TZOFFSETFROM:+0100
TZOFFSETTO:+0000
TZNAME:GMT
DTSTART:20251026T010000
END:STANDARD
BEGIN:DAYLIGHT
TZOFFSETFROM:+0000
TZOFFSETTO:+0100
TZNAME:BST
DTSTART:20260329T010000
END:DAYLIGHT
BEGIN:STANDARD
TZOFFSETFROM:+0100
TZOFFSETTO:+0000
TZNAME:GMT
DTSTART:20261025T010000
END:STANDARD
BEGIN:DAYLIGHT
TZOFFSETFROM:+0000
TZOFFSETTO:+0100
TZNAME:BST
DTSTART:20270328T010000
END:DAYLIGHT
BEGIN:STANDARD
TZOFFSETFROM:+0100
TZOFFSETTO:+0000
TZNAME:GMT
DTSTART:20271031T010000
END:STANDARD
END:VTIMEZONE
BEGIN:VEVENT
DTSTART;TZID=Europe/London:20260122T190000
DTEND;TZID=Europe/London:20260122T210000
DTSTAMP:20260420T135654
CREATED:20250127T023629Z
LAST-MODIFIED:20250903T222342Z
UID:9791-1769108400-1769115600@potteriesphotographyclub.co.uk
SUMMARY:Bob Brind-Surch is back!!
DESCRIPTION:By incredibly popular demand we are delighted to welcome Bob back for one of his fabulous presentations. I have let him choose this year and he has gone for From The Ordinary To The Extraordinary Part Two. More information is available here. \nWe are in for another fun and educational evening whilst also enjoying some of Bob’s amazing photos so make sure you get there early to get a seat!
URL:https://potteriesphotographyclub.co.uk/event/bob-brind-surch-is-back/
LOCATION:Marychurch Centre\, 153 Werrington Road\, Stoke-on-Trent\, ST2 9AQ\, United Kingdom
CATEGORIES:Diary
END:VEVENT
BEGIN:VEVENT
DTSTART;TZID=Europe/London:20260115T190000
DTEND;TZID=Europe/London:20260115T210000
DTSTAMP:20260420T135654
CREATED:20250909T014215Z
LAST-MODIFIED:20250909T014215Z
UID:9976-1768503600-1768510800@potteriesphotographyclub.co.uk
SUMMARY:Macro Night
DESCRIPTION:How close can you go? And what will you be using as subjects? \nWe have the whole of upstairs for you to take pictures of tiny things….go figure! \nBring macro lenses if you have them and maybe a tripod if you can put up with their nonsense.
URL:https://potteriesphotographyclub.co.uk/event/macro-night-3/
LOCATION:Marychurch Centre\, 153 Werrington Road\, Stoke-on-Trent\, ST2 9AQ\, United Kingdom
CATEGORIES:Diary
END:VEVENT
BEGIN:VEVENT
DTSTART;TZID=Europe/London:20260108T190000
DTEND;TZID=Europe/London:20260108T210000
DTSTAMP:20260420T135654
CREATED:20250909T013806Z
LAST-MODIFIED:20250909T013806Z
UID:9974-1767898800-1767906000@potteriesphotographyclub.co.uk
SUMMARY:Why I Love Photography by Mrs Claire Wade
DESCRIPTION:Our first night back and what a corker we welcome you back with! Claire will be working on this all over Christmas so it promises to be the highlight of 2026…already!
URL:https://potteriesphotographyclub.co.uk/event/why-i-love-photography-by-mrs-claire-wade/
LOCATION:Marychurch Centre\, 153 Werrington Road\, Stoke-on-Trent\, ST2 9AQ\, United Kingdom
CATEGORIES:Diary
END:VEVENT
BEGIN:VEVENT
DTSTART;TZID=Europe/London:20251218T190000
DTEND;TZID=Europe/London:20251218T210000
DTSTAMP:20260420T135654
CREATED:20250905T041509Z
LAST-MODIFIED:20250905T041509Z
UID:9972-1766084400-1766091600@potteriesphotographyclub.co.uk
SUMMARY:The Christmas Quiz is back whether you like it or not
DESCRIPTION:Yes\, it’s that time of year where I ask 100 serious questions all related to photography. \nOr not. That would shock you wouldn’t it! \nBring food and drink along folks as we have a bit of a do during the break.
URL:https://potteriesphotographyclub.co.uk/event/the-christmas-quiz-is-back-whether-you-like-it-or-not/
LOCATION:Marychurch Centre\, 153 Werrington Road\, Stoke-on-Trent\, ST2 9AQ\, United Kingdom
CATEGORIES:Diary
END:VEVENT
BEGIN:VEVENT
DTSTART;TZID=Europe/London:20251211T190000
DTEND;TZID=Europe/London:20251211T210000
DTSTAMP:20260420T135654
CREATED:20250905T040918Z
LAST-MODIFIED:20250905T040918Z
UID:9970-1765479600-1765486800@potteriesphotographyclub.co.uk
SUMMARY:Long Exposure and Ghost Exposure practical night
DESCRIPTION:It’s time to take all you learnt from Picko and take it out into the field\, well the cemetery anyway….. \nWe will be at the Cemetery in Shelton on Cemetery Road. \nCameras and tripods plus shutter releases at the ready folks.
URL:https://potteriesphotographyclub.co.uk/event/long-exposure-and-ghost-exposure-practical-night/
LOCATION:Marychurch Centre\, 153 Werrington Road\, Stoke-on-Trent\, ST2 9AQ\, United Kingdom
CATEGORIES:Diary
END:VEVENT
BEGIN:VEVENT
DTSTART;TZID=Europe/London:20251204T190000
DTEND;TZID=Europe/London:20251204T210000
DTSTAMP:20260420T135654
CREATED:20241220T012024Z
LAST-MODIFIED:20241220T012024Z
UID:9784-1764874800-1764882000@potteriesphotographyclub.co.uk
SUMMARY:The Return of Mr Alex Hyde
DESCRIPTION:Get it in your diaries folks because you won’t want to miss the latest presentation by the macro master\, Alex Hyde. \nAt time of writing the presentation hasn’t even been created yet and a lot of the photos haven’t been taken yet which makes it all the more exciting!
URL:https://potteriesphotographyclub.co.uk/event/the-return-of-mr-alex-hyde/
LOCATION:Marychurch Centre\, 153 Werrington Road\, Stoke-on-Trent\, ST2 9AQ\, United Kingdom
CATEGORIES:Diary
END:VEVENT
BEGIN:VEVENT
DTSTART;TZID=Europe/London:20251127T190000
DTEND;TZID=Europe/London:20251127T210000
DTSTAMP:20260420T135654
CREATED:20250905T040338Z
LAST-MODIFIED:20250905T040338Z
UID:9968-1764270000-1764277200@potteriesphotographyclub.co.uk
SUMMARY:Long Exposure and Ghost Exposure Photography
DESCRIPTION:Picko volunteers again and this time there will be at least two types of exposure going on. He is even supplying his own ghost. \nYou’d better come along and listen as we will be practicing this out in the field in two weeks time! \nWhat a guy!
URL:https://potteriesphotographyclub.co.uk/event/long-exposure-and-ghost-exposure-photography/
LOCATION:Marychurch Centre\, 153 Werrington Road\, Stoke-on-Trent\, ST2 9AQ\, United Kingdom
CATEGORIES:Diary
END:VEVENT
BEGIN:VEVENT
DTSTART;TZID=Europe/London:20251120T190000
DTEND;TZID=Europe/London:20251120T210000
DTSTAMP:20260420T135654
CREATED:20250905T035509Z
LAST-MODIFIED:20251114T025543Z
UID:9966-1763665200-1763672400@potteriesphotographyclub.co.uk
SUMMARY:Peaky Blinders
DESCRIPTION:Tonight our MLC has booked a male model\, whose name I have forgotten\, dressing up as a Peaky Blinders character and as something else…..that I’ve forgotten…I’m spotting a theme here… \nThere will be a big chair and it will be another night not to miss. So don’t.
URL:https://potteriesphotographyclub.co.uk/event/a-streetdancer-named-i-dont-know-i-should-have-found-out-before-i-started-this-sentence/
LOCATION:Marychurch Centre\, 153 Werrington Road\, Stoke-on-Trent\, ST2 9AQ\, United Kingdom
CATEGORIES:Diary
END:VEVENT
BEGIN:VEVENT
DTSTART;TZID=Europe/London:20251113T190000
DTEND;TZID=Europe/London:20251113T210000
DTSTAMP:20260420T135654
CREATED:20250909T035412Z
LAST-MODIFIED:20251009T014652Z
UID:9997-1763060400-1763067600@potteriesphotographyclub.co.uk
SUMMARY:Definitely Richard Weston
DESCRIPTION:Back for a triumphant return I know you will all be excited to welcome Richard again. \nThis time he will be……….tbc……………
URL:https://potteriesphotographyclub.co.uk/event/maybe-richard-weston/
LOCATION:Marychurch Centre\, 153 Werrington Road\, Stoke-on-Trent\, ST2 9AQ\, United Kingdom
CATEGORIES:Diary
END:VEVENT
BEGIN:VEVENT
DTSTART;TZID=Europe/London:20251106T190000
DTEND;TZID=Europe/London:20251106T210000
DTSTAMP:20260420T135654
CREATED:20250905T034712Z
LAST-MODIFIED:20250905T034712Z
UID:9963-1762455600-1762462800@potteriesphotographyclub.co.uk
SUMMARY:Painting With Light at Foxfield railway
DESCRIPTION:Thanks To Graham\, we head out to do something new as we light up trains! We can shoot inside the sheds and/or do some light painting outside. \nBring cameras\, torches\, tripods\, ideas and shutter releases if you have them. \nChoo choo!
URL:https://potteriesphotographyclub.co.uk/event/painting-with-light-at-foxfield-railway/
LOCATION:Foxfield railway
CATEGORIES:Diary
END:VEVENT
BEGIN:VEVENT
DTSTART;TZID=Europe/London:20251030T190000
DTEND;TZID=Europe/London:20251030T210000
DTSTAMP:20260420T135654
CREATED:20250905T034008Z
LAST-MODIFIED:20250905T034008Z
UID:9961-1761850800-1761858000@potteriesphotographyclub.co.uk
SUMMARY:A Spooktacular Spectacular
DESCRIPTION:We will be upstairs this evening for our world-famous Halloween special. \nBring\, cameras\, props\, ideas\, get dressed up\, don your best fangs and let’s get scary!
URL:https://potteriesphotographyclub.co.uk/event/a-spooktacular-spectacular/
LOCATION:Marychurch Centre\, 153 Werrington Road\, Stoke-on-Trent\, ST2 9AQ\, United Kingdom
CATEGORIES:Diary
END:VEVENT
BEGIN:VEVENT
DTSTART;TZID=Europe/London:20251023T190000
DTEND;TZID=Europe/London:20251023T210000
DTSTAMP:20260420T135654
CREATED:20250905T033328Z
LAST-MODIFIED:20250905T033328Z
UID:9959-1761246000-1761253200@potteriesphotographyclub.co.uk
SUMMARY:Rob's Return
DESCRIPTION:Aye\, tis Rob again so we are guaranteed an entertaining evening full of ‘facts’ but don’t ask what it will be about as he probably won’t know until the day before. \nBut will he remember his notes?
URL:https://potteriesphotographyclub.co.uk/event/robs-return/
LOCATION:Marychurch Centre\, 153 Werrington Road\, Stoke-on-Trent\, ST2 9AQ\, United Kingdom
CATEGORIES:Diary
END:VEVENT
BEGIN:VEVENT
DTSTART;TZID=Europe/London:20251016T190000
DTEND;TZID=Europe/London:20251016T210000
DTSTAMP:20260420T135654
CREATED:20250828T001607Z
LAST-MODIFIED:20250828T001607Z
UID:9948-1760641200-1760648400@potteriesphotographyclub.co.uk
SUMMARY:Guest Speaker. Ian Daisley from High Stone gallery is back
DESCRIPTION:A very popular speaker returns and with a brand new presentation entitled Treescapes. You can look up High Stone Gallery here. \nA pictorial example is below of what to expect on the night
URL:https://potteriesphotographyclub.co.uk/event/guest-speaker-ian-daisley-from-high-stone-gallery-is-back/
LOCATION:Marychurch Centre\, 153 Werrington Road\, Stoke-on-Trent\, ST2 9AQ\, United Kingdom
CATEGORIES:Diary
END:VEVENT
BEGIN:VEVENT
DTSTART;TZID=Europe/London:20251009T190000
DTEND;TZID=Europe/London:20251009T210000
DTSTAMP:20260420T135654
CREATED:20250909T035747Z
LAST-MODIFIED:20250909T035747Z
UID:9999-1760036400-1760043600@potteriesphotographyclub.co.uk
SUMMARY:Flash Night
DESCRIPTION:Downstairs
URL:https://potteriesphotographyclub.co.uk/event/flash-night-2/
LOCATION:Marychurch Centre\, 153 Werrington Road\, Stoke-on-Trent\, ST2 9AQ\, United Kingdom
CATEGORIES:Diary
END:VEVENT
BEGIN:VEVENT
DTSTART;TZID=Europe/London:20251002T190000
DTEND;TZID=Europe/London:20251002T210000
DTSTAMP:20260420T135654
CREATED:20250613T013152Z
LAST-MODIFIED:20250919T234931Z
UID:9927-1759431600-1759438800@potteriesphotographyclub.co.uk
SUMMARY:Another Inspirational Nikki's Night
DESCRIPTION:Many thanks to Nikki for volunteering to do a presentation tonight. Her talks are always fun and inspiring and you’d be daft to miss this one. \nHer talk this time is entitled ‘Fell so Near….and a little bit more.’ \nNow you’re intrigued!
URL:https://potteriesphotographyclub.co.uk/event/its-carmel-vs-louise-in-a-friendly-battle-with-storytelling-vs-infrared/
LOCATION:Marychurch Centre\, 153 Werrington Road\, Stoke-on-Trent\, ST2 9AQ\, United Kingdom
CATEGORIES:Diary
END:VEVENT
BEGIN:VEVENT
DTSTART;TZID=Europe/London:20250925T190000
DTEND;TZID=Europe/London:20250925T210000
DTSTAMP:20260420T135654
CREATED:20250304T013107Z
LAST-MODIFIED:20250307T022509Z
UID:9812-1758826800-1758834000@potteriesphotographyclub.co.uk
SUMMARY:Cancel everything because Tony Worobiec is back!
DESCRIPTION:They said we couldn’t do it\, they said it couldn’t happen\, they said a lot of things. \nBut they were wrong because we are delighted to welcome back the incomparable fountain of knowledge\, wisdom and humour that is Mr Tony Worobiec. \nThe presentation is on Night and Low Light Photography and is definitely not one to be missed!
URL:https://potteriesphotographyclub.co.uk/event/cancel-everything-because-tony-worobiec-is-back/
LOCATION:Marychurch Centre\, 153 Werrington Road\, Stoke-on-Trent\, ST2 9AQ\, United Kingdom
CATEGORIES:Diary
END:VEVENT
BEGIN:VEVENT
DTSTART;TZID=Europe/London:20250918T190000
DTEND;TZID=Europe/London:20250918T210000
DTSTAMP:20260420T135654
CREATED:20250311T023835Z
LAST-MODIFIED:20250311T023835Z
UID:9865-1758222000-1758229200@potteriesphotographyclub.co.uk
SUMMARY:Back to Basics
DESCRIPTION:Phil will be guiding us through things we should know and the night is ideal for the experienced as well as the inexperienced. \nEven if you know or think you know everything it’s always good to have a refresher on why things work….or why they don’t in my case…. \nIf you’re really lucky he may let you have a break!
URL:https://potteriesphotographyclub.co.uk/event/back-to-basics-2/
LOCATION:Marychurch Centre\, 153 Werrington Road\, Stoke-on-Trent\, ST2 9AQ\, United Kingdom
CATEGORIES:Diary
END:VEVENT
BEGIN:VEVENT
DTSTART;TZID=Europe/London:20250911T190000
DTEND;TZID=Europe/London:20250911T210000
DTSTAMP:20260420T135654
CREATED:20250311T022845Z
LAST-MODIFIED:20250311T022845Z
UID:9863-1757617200-1757624400@potteriesphotographyclub.co.uk
SUMMARY:Motorbike Night
DESCRIPTION:In yet another club first we will be having a variety of motorbikes in the big room upstairs for you to photograph. \nI don’t think I need to say anymore. \nCrikey.
URL:https://potteriesphotographyclub.co.uk/event/motorbike-night/
CATEGORIES:Diary
END:VEVENT
BEGIN:VEVENT
DTSTART;TZID=Europe/London:20250904T190000
DTEND;TZID=Europe/London:20250904T210000
DTSTAMP:20260420T135654
CREATED:20250311T022142Z
LAST-MODIFIED:20250311T022400Z
UID:9861-1757012400-1757019600@potteriesphotographyclub.co.uk
SUMMARY:Show and Tell and Planning
DESCRIPTION:But not in that order….. \nThe faster we plan our Winter programme the more show and tell you get….. \nWhere to send your pictures will be revealed in an email closer to the time.
URL:https://potteriesphotographyclub.co.uk/event/show-and-tell-and-planning/
LOCATION:Marychurch Centre\, 153 Werrington Road\, Stoke-on-Trent\, ST2 9AQ\, United Kingdom
CATEGORIES:Diary
END:VEVENT
BEGIN:VEVENT
DTSTART;TZID=Europe/London:20250828T190000
DTEND;TZID=Europe/London:20250828T210000
DTSTAMP:20260420T135654
CREATED:20250311T021918Z
LAST-MODIFIED:20250312T022308Z
UID:9859-1756407600-1756414800@potteriesphotographyclub.co.uk
SUMMARY:Why I Like Photography with Nicko
DESCRIPTION:Ladies and gentlemen we have a volunteer! \nAnd it’s Nicko who has offered to do a presentation on why he likes or even loves photography. And we said a hearty YES! \nCome along and find out why!
URL:https://potteriesphotographyclub.co.uk/event/wildlife-photography-with-nicko/
LOCATION:Marychurch Centre\, 153 Werrington Road\, Stoke-on-Trent\, ST2 9AQ\, United Kingdom
CATEGORIES:Diary
END:VEVENT
BEGIN:VEVENT
DTSTART;TZID=Europe/London:20250821T190000
DTEND;TZID=Europe/London:20250821T210000
DTSTAMP:20260420T135654
CREATED:20250311T014219Z
LAST-MODIFIED:20250311T014219Z
UID:9857-1755802800-1755810000@potteriesphotographyclub.co.uk
SUMMARY:A Visit to Foxfield Railway
DESCRIPTION:Graham and friends (family too) will be kindly throwing open the doors for us at Foxfield Railway again for another very special night. \nWe are very lucky to be given this opportunity and see places\, engines\, carriages etc that the public don’t get to see. \nMonies will be donated to the railway.
URL:https://potteriesphotographyclub.co.uk/event/a-visit-to-foxfield-railway/
LOCATION:Marychurch Centre\, 153 Werrington Road\, Stoke-on-Trent\, ST2 9AQ\, United Kingdom
CATEGORIES:Diary
END:VEVENT
BEGIN:VEVENT
DTSTART;TZID=Europe/London:20250814T190000
DTEND;TZID=Europe/London:20250814T210000
DTSTAMP:20260420T135654
CREATED:20250311T013542Z
LAST-MODIFIED:20250311T013542Z
UID:9855-1755198000-1755205200@potteriesphotographyclub.co.uk
SUMMARY:Oil and water stars in a Mixed Media evening
DESCRIPTION:And there may even be some paint flying around too apparently. That’s pretty normal isn’t it? \nI’d bring a camera and probably a tripod if I were you and do some research beforehand to see what media you want to mix and take pictures of. \nWell it sounds like fun to me!
URL:https://potteriesphotographyclub.co.uk/event/oil-and-water-stars-in-a-mixed-media-evening/
LOCATION:Marychurch Centre\, 153 Werrington Road\, Stoke-on-Trent\, ST2 9AQ\, United Kingdom
CATEGORIES:Diary
END:VEVENT
BEGIN:VEVENT
DTSTART;TZID=Europe/London:20250807T190000
DTEND;TZID=Europe/London:20250807T210000
DTSTAMP:20260420T135654
CREATED:20250311T013128Z
LAST-MODIFIED:20250311T013128Z
UID:9853-1754593200-1754600400@potteriesphotographyclub.co.uk
SUMMARY:The Roaches but further on
DESCRIPTION:Our ‘Summer’ trips usually start with a trip to the Roaches but\, after two almost wash-outs\, we have moved it until later in the year because it’s going to be a lovely Summer’s evening tonight. \nWe will be going to a different place than previously and full details will be in your email closer to the time.
URL:https://potteriesphotographyclub.co.uk/event/the-roaches-but-further-on/
LOCATION:Marychurch Centre\, 153 Werrington Road\, Stoke-on-Trent\, ST2 9AQ\, United Kingdom
CATEGORIES:Diary
END:VEVENT
BEGIN:VEVENT
DTSTART;TZID=Europe/London:20250731T190000
DTEND;TZID=Europe/London:20250731T210000
DTSTAMP:20260420T135654
CREATED:20250310T051843Z
LAST-MODIFIED:20250310T051843Z
UID:9851-1753988400-1753995600@potteriesphotographyclub.co.uk
SUMMARY:What? Wait? It's me? Oh heck? I remember going to India.....
DESCRIPTION:…….and I’m sure I have some pictures somewhere too…..who volunteered me for this? \nHow am I supposed to remember where I was and what’s in the pictures? \nOne not to miss obviously….
URL:https://potteriesphotographyclub.co.uk/event/what-wait-its-me-oh-heck-i-remember-going-to-india/
LOCATION:Marychurch Centre\, 153 Werrington Road\, Stoke-on-Trent\, ST2 9AQ\, United Kingdom
CATEGORIES:Diary
END:VEVENT
BEGIN:VEVENT
DTSTART;TZID=Europe/London:20250724T190000
DTEND;TZID=Europe/London:20250724T210000
DTSTAMP:20260420T135654
CREATED:20250310T050210Z
LAST-MODIFIED:20250718T015921Z
UID:9849-1753383600-1753390800@potteriesphotographyclub.co.uk
SUMMARY:A Two-Room dust-up
DESCRIPTION:In Room 1 will be Claire showing some basic things you can do in Photoshop and answering any (sensible) questions you might have. You could always bring in your laptops and follow along if you like-an extension might be useful if you need to plug in. \nIn the other room will be Nicko and Rusto helping you do some model photography for you to join in with and learn how to make models look like life-size objects. \nYour night\, your choice. \n 
URL:https://potteriesphotographyclub.co.uk/event/a-two-room-dust-up/
LOCATION:Marychurch Centre\, 153 Werrington Road\, Stoke-on-Trent\, ST2 9AQ\, United Kingdom
CATEGORIES:Diary
END:VEVENT
BEGIN:VEVENT
DTSTART;TZID=Europe/London:20250717T190000
DTEND;TZID=Europe/London:20250717T210000
DTSTAMP:20260420T135654
CREATED:20250310T045444Z
LAST-MODIFIED:20250310T045444Z
UID:9847-1752778800-1752786000@potteriesphotographyclub.co.uk
SUMMARY:A Trip to Foxfield Colliery
DESCRIPTION:I’ve never been here so can’t wait to see what is in store for us tonight as we visit a colliery for the first time. It is quite likely that Nicko will end up getting sent down the mines and we won’t see him again and that would be a risk I’d be willing to take…..if he wasn’t such a good drinks maker… \nThanks to Graham for sorting this out and more information will be available closer to the time.
URL:https://potteriesphotographyclub.co.uk/event/a-trip-to-foxfield-colliery/
LOCATION:Marychurch Centre\, 153 Werrington Road\, Stoke-on-Trent\, ST2 9AQ\, United Kingdom
CATEGORIES:Diary
END:VEVENT
BEGIN:VEVENT
DTSTART;TZID=Europe/London:20250710T190000
DTEND;TZID=Europe/London:20250710T210000
DTSTAMP:20260420T135654
CREATED:20250310T044940Z
LAST-MODIFIED:20250310T044940Z
UID:9845-1752174000-1752181200@potteriesphotographyclub.co.uk
SUMMARY:Water droplets\, splashes and maybe even some crashes
DESCRIPTION:But will we be soaking Nicko again?? \nWe are upstairs this week as we try out various water-based styles of photography that will mean you need your tripods as well as your cameras of course. If you’re not sure what all this madness entails\, someone will be on hand to show you so\, paddling pools and mops at the ready and…..let’s do this!
URL:https://potteriesphotographyclub.co.uk/event/water-droplets-splashes-and-maybe-even-some-crashes/
LOCATION:Marychurch Centre\, 153 Werrington Road\, Stoke-on-Trent\, ST2 9AQ\, United Kingdom
CATEGORIES:Diary
END:VEVENT
BEGIN:VEVENT
DTSTART;TZID=Europe/London:20250703T190000
DTEND;TZID=Europe/London:20250703T210000
DTSTAMP:20260420T135654
CREATED:20250310T043711Z
LAST-MODIFIED:20250627T012746Z
UID:9842-1751569200-1751576400@potteriesphotographyclub.co.uk
SUMMARY:It's Golden I tell you
DESCRIPTION:In a change to the programme we are now off to see the 21 meter tall statue Golden and the surrounding environs known as Goldendale. \nDirections are in your email. It’s near Tunstall apparently!
URL:https://potteriesphotographyclub.co.uk/event/out-and-about-round-the-tawny-hotel/
LOCATION:Golden\, 3 Chatterley Road
CATEGORIES:Diary
END:VEVENT
BEGIN:VEVENT
DTSTART;TZID=Europe/London:20250626T190000
DTEND;TZID=Europe/London:20250626T210000
DTSTAMP:20260420T135654
CREATED:20250310T041932Z
LAST-MODIFIED:20250310T041932Z
UID:9840-1750964400-1750971600@potteriesphotographyclub.co.uk
SUMMARY:Show and Tell at last
DESCRIPTION:We’ve been up to so much recently that we may have to limit how many pictures people can submit or we’ll be here for a week…..which isn’t a bad idea… It will be nice to catch up and see what we’ve been up to recently. \nDetails on when and where to submit your photos will be in your email closer to the time.
URL:https://potteriesphotographyclub.co.uk/event/show-and-tell-at-last/
LOCATION:Marychurch Centre\, 153 Werrington Road\, Stoke-on-Trent\, ST2 9AQ\, United Kingdom
CATEGORIES:Diary
END:VEVENT
BEGIN:VEVENT
DTSTART;TZID=Europe/London:20250619T190000
DTEND;TZID=Europe/London:20250619T210000
DTSTAMP:20260420T135654
CREATED:20250310T032251Z
LAST-MODIFIED:20250310T032251Z
UID:9837-1750359600-1750366800@potteriesphotographyclub.co.uk
SUMMARY:A Night at Cotton Dell Wildlife Trust
DESCRIPTION:On a balmy Summer’s evening where better than to go than here? I have no idea to be honest. I’ve never heard of it let alone been there but Nicko recommended it so you can praise him when it turns out to be amazing. \nAnd if it isn’t….. \nBut I’m sure it will be! \nDetails and directions will be in your emails closer to the time.
URL:https://potteriesphotographyclub.co.uk/event/a-night-at-cotton-dell-wildlife-trust/
LOCATION:Cotton Dell Wildlife Trust
CATEGORIES:Diary
END:VEVENT
END:VCALENDAR