BEGIN:VCALENDAR
VERSION:2.0
PRODID:-//Potteries Photography Club - ECPv6.15.20//NONSGML v1.0//EN
CALSCALE:GREGORIAN
METHOD:PUBLISH
X-WR-CALNAME:Potteries Photography Club
X-ORIGINAL-URL:https://potteriesphotographyclub.co.uk
X-WR-CALDESC:Events for Potteries Photography Club
REFRESH-INTERVAL;VALUE=DURATION:PT1H
X-Robots-Tag:noindex
X-PUBLISHED-TTL:PT1H
BEGIN:VTIMEZONE
TZID:Europe/London
BEGIN:DAYLIGHT
TZOFFSETFROM:+0000
TZOFFSETTO:+0100
TZNAME:BST
DTSTART:20250330T010000
END:DAYLIGHT
BEGIN:STANDARD
TZOFFSETFROM:+0100
TZOFFSETTO:+0000
TZNAME:GMT
DTSTART:20251026T010000
END:STANDARD
BEGIN:DAYLIGHT
TZOFFSETFROM:+0000
TZOFFSETTO:+0100
TZNAME:BST
DTSTART:20260329T010000
END:DAYLIGHT
BEGIN:STANDARD
TZOFFSETFROM:+0100
TZOFFSETTO:+0000
TZNAME:GMT
DTSTART:20261025T010000
END:STANDARD
BEGIN:DAYLIGHT
TZOFFSETFROM:+0000
TZOFFSETTO:+0100
TZNAME:BST
DTSTART:20270328T010000
END:DAYLIGHT
BEGIN:STANDARD
TZOFFSETFROM:+0100
TZOFFSETTO:+0000
TZNAME:GMT
DTSTART:20271031T010000
END:STANDARD
END:VTIMEZONE
BEGIN:VEVENT
DTSTART;TZID=Europe/London:20260129T190000
DTEND;TZID=Europe/London:20260129T210000
DTSTAMP:20260419T034842
CREATED:20250909T014745Z
LAST-MODIFIED:20250909T014745Z
UID:9978-1769713200-1769720400@potteriesphotographyclub.co.uk
SUMMARY:Going Underground
DESCRIPTION:My notes from planning night say ‘Subways in Newcastle’. \nI can’t remember why. I’ll let you know. And which subways. And which Newcastle?? \nSounds good though!
URL:https://potteriesphotographyclub.co.uk/event/going-underground/
LOCATION:Newcastle-under-Lyme
CATEGORIES:Diary
END:VEVENT
END:VCALENDAR