BEGIN:VCALENDAR
VERSION:2.0
PRODID:-//Potteries Photography Club - ECPv6.15.20//NONSGML v1.0//EN
CALSCALE:GREGORIAN
METHOD:PUBLISH
X-WR-CALNAME:Potteries Photography Club
X-ORIGINAL-URL:https://potteriesphotographyclub.co.uk
X-WR-CALDESC:Events for Potteries Photography Club
REFRESH-INTERVAL;VALUE=DURATION:PT1H
X-Robots-Tag:noindex
X-PUBLISHED-TTL:PT1H
BEGIN:VTIMEZONE
TZID:Europe/London
BEGIN:DAYLIGHT
TZOFFSETFROM:+0000
TZOFFSETTO:+0100
TZNAME:BST
DTSTART:20160327T010000
END:DAYLIGHT
BEGIN:STANDARD
TZOFFSETFROM:+0100
TZOFFSETTO:+0000
TZNAME:GMT
DTSTART:20161030T010000
END:STANDARD
BEGIN:DAYLIGHT
TZOFFSETFROM:+0000
TZOFFSETTO:+0100
TZNAME:BST
DTSTART:20170326T010000
END:DAYLIGHT
BEGIN:STANDARD
TZOFFSETFROM:+0100
TZOFFSETTO:+0000
TZNAME:GMT
DTSTART:20171029T010000
END:STANDARD
BEGIN:DAYLIGHT
TZOFFSETFROM:+0000
TZOFFSETTO:+0100
TZNAME:BST
DTSTART:20180325T010000
END:DAYLIGHT
BEGIN:STANDARD
TZOFFSETFROM:+0100
TZOFFSETTO:+0000
TZNAME:GMT
DTSTART:20181028T010000
END:STANDARD
END:VTIMEZONE
BEGIN:VEVENT
DTSTART;VALUE=DATE:20170320
DTEND;VALUE=DATE:20170425
DTSTAMP:20260420T145308
CREATED:20170314T200817Z
LAST-MODIFIED:20170315T193028Z
UID:5536-1489968000-1493078399@potteriesphotographyclub.co.uk
SUMMARY:Around the World and Back Again
DESCRIPTION:Claire and Glyn’s second exhibition at Zest Cafe Bistro \nSave
URL:https://potteriesphotographyclub.co.uk/event/around-world-back/
LOCATION:Zest Café Bistro\, 50 Piccadilly\, Hanley\, Stoke-on-Trent\, ST1 1EG UK\, United Kingdom
CATEGORIES:Exhibitions
ATTACH;FMTTYPE=image/jpeg:https://potteriesphotographyclub.co.uk/wp-content/uploads/2017/03/Banner-2.jpg
END:VEVENT
BEGIN:VEVENT
DTSTART;TZID=Europe/London:20170406T190000
DTEND;TZID=Europe/London:20170406T210000
DTSTAMP:20260420T145308
CREATED:20160815T211925Z
LAST-MODIFIED:20160816T121719Z
UID:5052-1491505200-1491512400@potteriesphotographyclub.co.uk
SUMMARY:Portraits / Studio Night
DESCRIPTION:Always a popular night so bring your cameras along\, we’ll supply the models and people wil be on hand to ask if you’re not sure what you’re doing. With Willfield\, you’re never alone. \n175
URL:https://potteriesphotographyclub.co.uk/event/portraits-studio-night/
LOCATION:Bentilee Neighbourhood Centre\, Dawlish Dr\, Stoke on Trent\, ST2 0EU\, United Kingdom
CATEGORIES:Diary
END:VEVENT
END:VCALENDAR